BEGIN:VCALENDAR
VERSION:2.0
PRODID:-//eventon.com NONSGML v1.0//EN
CALSCALE:GREGORIAN
METHOD:PUBLISH
BEGIN:VEVENT
UID:69e60236b3033
DTSTAMP:20260420T063846
DTSTART:20220523T100000Z
DTEND:20220523T130000Z
TZID:America/New_York
LOCATION:
SUMMARY:COVER Store - mondays between may 23 and Labor day
DESCRIPTION:In Store &#8211; Heavy Lifting &#8211; Truck Driver/Loaded Volunteers\nhttps://coverhomerepair.org/events/cover-store-mondays-between-may-23-and-labor-day/
URL:https://coverhomerepair.org/events/cover-store-mondays-between-may-23-and-labor-day/
END:VEVENT
END:VCALENDAR