BEGIN:VCALENDAR
VERSION:2.0
PRODID:-//eventon.com NONSGML v1.0//EN
CALSCALE:GREGORIAN
METHOD:PUBLISH
BEGIN:VEVENT
UID:69e5f0a7b607e
DTSTAMP:20260420T052351
DTSTART:20220603T090000Z
DTEND:20220603T120000Z
TZID:America/New_York
LOCATION:
SUMMARY:ALL WOMEN'S WORK PROJECT - Canaan\,  NH\,  June 2 & 3\,  2022
DESCRIPTION:Two Day Project &#8211; Thursday and Friday\,  June 2 &amp; 3\,  2022 &#8211; NO EXPERIENCE NECESSARY &#8211; Porch\,  Deck &amp; Stairs Construction\nhttps://coverhomerepair.org/events/all-womens-work-project-canaan-nh-june-2-3-2022-2/
URL:https://coverhomerepair.org/events/all-womens-work-project-canaan-nh-june-2-3-2022-2/
END:VEVENT
END:VCALENDAR