BEGIN:VCALENDAR
VERSION:2.0
PRODID:-//eventon.com NONSGML v1.0//EN
CALSCALE:GREGORIAN
METHOD:PUBLISH
BEGIN:VEVENT
UID:69e8c759ec7e7
DTSTAMP:20260422T090425
DTSTART:20220714T090000Z
DTEND:20220714T120000Z
TZID:America/New_York
LOCATION:
SUMMARY:canaan\,  nh - july 14 - accessibility ramp
DESCRIPTION:Day one of a two day project &#8211; Thursday\,  July 14\,  2022 &#8211; 9 AM to 4 PM\nhttps://coverhomerepair.org/events/canaan-nh-july-14-15-accessibility-ramp-no-experience-required/
URL:https://coverhomerepair.org/events/canaan-nh-july-14-15-accessibility-ramp-no-experience-required/
END:VEVENT
END:VCALENDAR