BEGIN:VCALENDAR
VERSION:2.0
PRODID:-//eventon.com NONSGML v1.0//EN
CALSCALE:GREGORIAN
METHOD:PUBLISH
BEGIN:VEVENT
UID:69e602c7a470d
DTSTAMP:20260420T064111
DTSTART:20220624T090000Z
DTEND:20220624T120000Z
TZID:America/New_York
LOCATION:
SUMMARY:FINISHING UP A PROJECT IN WRJ - FRIday\,  June 24 - NO EXPERIENCE NECESSARY
DESCRIPTION:Insulated Skirting &#8211; White River Junction\,  VT &#8211; 9 AM to 4 PM\nhttps://coverhomerepair.org/events/finishing-up-a-project-in-wrj-friday-june-24-no-experience-necessary/
URL:https://coverhomerepair.org/events/finishing-up-a-project-in-wrj-friday-june-24-no-experience-necessary/
END:VEVENT
END:VCALENDAR