BEGIN:VCALENDAR
VERSION:2.0
PRODID:-//eventon.com NONSGML v1.0//EN
CALSCALE:GREGORIAN
METHOD:PUBLISH
BEGIN:VEVENT
UID:69e5f0ff6bc59
DTSTAMP:20260420T052519
DTSTART:20221007T090000Z
DTEND:20221007T120000Z
TZID:America/New_York
LOCATION:
SUMMARY:springfield\,  vt - new metal roof
DESCRIPTION:NO EXPERIENCE REQUIRED &#8211; Day two of a two day event &#8211; Friday\,  October 7\,  2022\nhttps://coverhomerepair.org/events/springfield-vt-new-metal-roof/
URL:https://coverhomerepair.org/events/springfield-vt-new-metal-roof/
END:VEVENT
END:VCALENDAR