BEGIN:VCALENDAR
VERSION:2.0
PRODID:-//eventon.com NONSGML v1.0//EN
CALSCALE:GREGORIAN
METHOD:PUBLISH
BEGIN:VEVENT
UID:69e61e5926445
DTSTAMP:20260420T083849
DTSTART:20221110T090000Z
DTEND:20221110T110000Z
TZID:America/New_York
LOCATION:
SUMMARY:springfield\,  vt - Porch reframing and redecking
DESCRIPTION:NO EXPERIENCE REQUIRED &#8211; One day event &#8211; 9 AM to 4 PM\nhttps://coverhomerepair.org/events/springfield-vt-porch-reframing-and-redecking/
URL:https://coverhomerepair.org/events/springfield-vt-porch-reframing-and-redecking/
END:VEVENT
END:VCALENDAR