BEGIN:VCALENDAR
VERSION:2.0
PRODID:-//eventon.com NONSGML v1.0//EN
CALSCALE:GREGORIAN
METHOD:PUBLISH
BEGIN:VEVENT
UID:69e5edda472de
DTSTAMP:20260420T051154
DTSTART:20221111T090000Z
DTEND:20221111T110000Z
TZID:America/New_York
LOCATION:
SUMMARY:assemble interior storm windows - full day or half day options
DESCRIPTION:If you intend to volunteer for only a half day\,  send e-mail to volunteer@coverhomerepair.org to indicate [ 9A to 1P ] or [ Noon to 4P ] Otherwise\,  COVER will assume that you prefer to volunteer 9 AM to 4 PM\nhttps://coverhomerepair.org/events/assemble-interior-storm-windows-full-day-or-half-day-options-6/
URL:https://coverhomerepair.org/events/assemble-interior-storm-windows-full-day-or-half-day-options-6/
END:VEVENT
END:VCALENDAR