BEGIN:VCALENDAR
VERSION:2.0
PRODID:-//eventon.com NONSGML v1.0//EN
CALSCALE:GREGORIAN
METHOD:PUBLISH
BEGIN:VEVENT
UID:69e60177d7324
DTSTAMP:20260420T063535
DTSTART:20230324T090000Z
DTEND:20230324T120000Z
TZID:America/New_York
LOCATION:
SUMMARY:Help us with our building renovation
DESCRIPTION:The actual tasks will vary and depend on the current state of the renovation. Email volunteer@coverhomerepair.org for specifics.\nhttps://coverhomerepair.org/events/help-us-with-our-building-renovation-31/
URL:https://coverhomerepair.org/events/help-us-with-our-building-renovation-31/
END:VEVENT
END:VCALENDAR