BEGIN:VCALENDAR
VERSION:2.0
PRODID:-//eventon.com NONSGML v1.0//EN
CALSCALE:GREGORIAN
METHOD:PUBLISH
BEGIN:VEVENT
UID:69e61a88b0c5c
DTSTAMP:20260420T082232
DTSTART:20230429T090000Z
DTEND:20230429T120000Z
TZID:America/New_York
LOCATION:
SUMMARY:Help us with our building renovation
DESCRIPTION:The actual tasks will vary and depend on the current state of the renovation. Email volunteer@coverhomerepair.org for specifics.\nhttps://coverhomerepair.org/events/help-us-with-our-building-renovation-48/
URL:https://coverhomerepair.org/events/help-us-with-our-building-renovation-48/
END:VEVENT
END:VCALENDAR