BEGIN:VCALENDAR
VERSION:2.0
PRODID:-//eventon.com NONSGML v1.0//EN
CALSCALE:GREGORIAN
METHOD:PUBLISH
BEGIN:VEVENT
UID:69e5efc44ad4a
DTSTAMP:20260420T052004
DTSTART:20230609T090000Z
DTEND:20230609T120000Z
TZID:America/New_York
LOCATION:
SUMMARY:Lebanon\,  NH - new metal roof
DESCRIPTION:Learn the basics of metal roofing with experienced COVER Staff. NO EXPERIENCE REQUIRED COVER Home Repair provides all tools and safety gear. Day one of a two day event.\nhttps://coverhomerepair.org/events/lebanon-nh-new-metal-roof/
URL:https://coverhomerepair.org/events/lebanon-nh-new-metal-roof/
END:VEVENT
END:VCALENDAR