BEGIN:VCALENDAR
VERSION:2.0
PRODID:-//eventon.com NONSGML v1.0//EN
CALSCALE:GREGORIAN
METHOD:PUBLISH
BEGIN:VEVENT
UID:69e5f097e810a
DTSTAMP:20260420T052335
DTSTART:20230622T090000Z
DTEND:20230622T120000Z
TZID:America/New_York
LOCATION:
SUMMARY:All Women Work project - Building Renovation
DESCRIPTION:Help COVER Home Repair with their building renovation project. You will learn construction skills from an experienced female carpenter. No experience necessary. Thursday\,  June 22 &#8211; The actual tasks will vary and depend on the current state of the renovation. COVER Home Repair provides all tools and safety gear. Open[..]\nhttps://coverhomerepair.org/events/all-women-work-project-building-renovation/
URL:https://coverhomerepair.org/events/all-women-work-project-building-renovation/
END:VEVENT
END:VCALENDAR