BEGIN:VCALENDAR
VERSION:2.0
PRODID:-//eventon.com NONSGML v1.0//EN
CALSCALE:GREGORIAN
METHOD:PUBLISH
BEGIN:VEVENT
UID:69e60279cf546
DTSTAMP:20260420T063953
DTSTART:20231104T090000Z
DTEND:20231104T120000Z
TZID:America/New_York
LOCATION:
SUMMARY:Braintree\,  VT - new metal roof
DESCRIPTION:Learn the basics of metal roofing with experienced COVER Staff. NO EXPERIENCE REQUIRED COVER Home Repair provides all tools and safety gear.\nhttps://coverhomerepair.org/events/braintree-vt-new-metal-roof-4/
URL:https://coverhomerepair.org/events/braintree-vt-new-metal-roof-4/
END:VEVENT
END:VCALENDAR