BEGIN:VCALENDAR
VERSION:2.0
PRODID:-//eventon.com NONSGML v1.0//EN
CALSCALE:GREGORIAN
METHOD:PUBLISH
BEGIN:VEVENT
UID:69e5f0c779d23
DTSTAMP:20260420T052423
DTSTART:20240217T090000Z
DTEND:20240217T110000Z
TZID:America/New_York
LOCATION:
SUMMARY:Weatherize and repair Subfloor at a home - Canaan\,  NH
DESCRIPTION:Help COVER weatherize a home in Canaan\,  NH! We will install interior storm windows\,  perform general air-sealing measures\,  install door gaskets\,  repair a subfloor section\,  add some wood trim\,  repair a wall section\,  and install smoke detectors and LED light bulbs. We are looking for 2 volunteers to help two[..]\nhttps://coverhomerepair.org/events/weatherize-and-repair-subfloor-at-a-seniors-home-canaan-nh/
URL:https://coverhomerepair.org/events/weatherize-and-repair-subfloor-at-a-seniors-home-canaan-nh/
END:VEVENT
END:VCALENDAR