BEGIN:VCALENDAR
VERSION:2.0
PRODID:-//eventon.com NONSGML v1.0//EN
CALSCALE:GREGORIAN
METHOD:PUBLISH
BEGIN:VEVENT
UID:69e88b18badc6
DTSTAMP:20260422T044720
DTSTART:20240413T090000Z
DTEND:20240413T120000Z
TZID:America/New_York
LOCATION:
SUMMARY:Install new plywood decking and add roll roofing over a porch roof at a home - Springfield\,  VT
DESCRIPTION:Help COVER finish a leaky porch roof at a home in Springfield\,  VT! We are looking for 3 volunteers to help two staff members with this project! NO EXPERIENCE NECESSARY. COVER Home Repair provides all tools and safety gear. Please bring water for yourself. Lunch will be provided by the[..]\nhttps://coverhomerepair.org/events/install-decking-and-roll-roofing-at-a-home-springfield-vt/
URL:https://coverhomerepair.org/events/install-decking-and-roll-roofing-at-a-home-springfield-vt/
END:VEVENT
END:VCALENDAR